BEGIN:VCALENDAR
VERSION:2.0
PRODID:-//Regional Development Australia Yorke &amp; Mid North - ECPv4.6.1//NONSGML v1.0//EN
CALSCALE:GREGORIAN
METHOD:PUBLISH
X-WR-CALNAME:Regional Development Australia Yorke &amp; Mid North
X-ORIGINAL-URL:https://www.yorkeandmidnorth.com.au
X-WR-CALDESC:Events for Regional Development Australia Yorke &amp; Mid North
BEGIN:VEVENT
DTSTART;TZID=UTC+0:20180227T000000
DTEND;TZID=UTC+0:20180228T000000
DTSTAMP:20180227T021559
CREATED:20180116T230649Z
LAST-MODIFIED:20180118T043237Z
UID:1142-1519689600-1519776000@www.yorkeandmidnorth.com.au
SUMMARY:Free Frontline Leadership Program
DESCRIPTION:NDS in conjunction with the Y&MN Disability Workforce Hub is pleased to be offering a 2-day Leadership Development program. This program will cover 3 critical subject areas relating to leading teams in a dynamic NDIS market environment. Training to be delivered for free through sponsorship of the South Australian government\, however a nominal fee will be charged to cover venue & catering. \nTopics to be covered include: \n\nFrom Managing to Leading\nCandid Conversations\nLeadership Excellence\n\nFor a full program description please click HERE. \nTuesday 27th & Wednesday the 28th of February in Clare.  \nNumbers are strictly limited!\nFor further information or to register for this 2 day workshop contact\nNicole Jenkins on (02) 9256 3107 or email nicole.jenkins@nds.org.au \n
URL:https://www.yorkeandmidnorth.com.au/event/free-frontline-leadership-program/
CATEGORIES:Workshop
END:VEVENT
BEGIN:VEVENT
DTSTART;TZID=UTC+0:20180227T100000
DTEND;TZID=UTC+0:20180227T130000
DTSTAMP:20180227T021559
CREATED:20171208T015555Z
LAST-MODIFIED:20180118T043158Z
UID:1075-1519725600-1519736400@www.yorkeandmidnorth.com.au
SUMMARY:Welcome Your Chinese Visitors Workshop
DESCRIPTION:SATIC\, with the support of the Government of South Australia\, the South Australian Tourism Commission and the Commonwealth Tourism Demand Driver Infrastructure (TDDI) program\, is running 40 workshops around the state in 2017/18. These workshops will be followed by one-on-one business coaching sessions (within six months). Please note that only 100 coaching sessions are available and conditions apply. See below for more information and to register your interest. \nThese workshops are highly interactive\, hands on and conducted in a small intimate group setting of up to 30 people that are tailored and run by professional facilitators. They aim to deliver tangible outcomes – learnt today and implemented tomorrow. \n\nWELCOME YOUR CHINESE VISITORS\nKey takeaways from this workshop include:Understanding your Chinese visitors \n\nMarket segmentation—who are your customers?\nFamily structure and cultural values\nUnderstanding their comfort zone—likes and dislikes\n\nPromoting your business to your Chinese visitors \n\nHow to create effective marketing collateral with proper translation\nHow to promote your business in a cost-effective way\nHow to design proper signage\, menus and instructions\n\nDelivering customer service to your Chinese visitors \n\nManaging expectations (greetings\, food\, accommodation\, etc.)\nCultural assumptions—how does culture influence communication\nUseful words and phrases in Mandarin Chinese\n\n\n
URL:https://www.yorkeandmidnorth.com.au/event/welcome-chinese-visitors-workshop/
LOCATION:11 Heritage Dr\, Wallaroo\, SA\, 5556\, Australia
CATEGORIES:Workshop
END:VEVENT
BEGIN:VEVENT
DTSTART;TZID=UTC+0:20180228T103000
DTEND;TZID=UTC+0:20180228T143000
DTSTAMP:20180227T021559
CREATED:20180222T024310Z
LAST-MODIFIED:20180222T030214Z
UID:1257-1519813800-1519828200@www.yorkeandmidnorth.com.au
SUMMARY:Aboriginal Family Support Services Program - Healthy Homes and Resilient Families - Rules and Routines
DESCRIPTION:For more details or registration please contact Dot Goldsmith 0467007492 or Tracy Miller 8254 1077\nPlease attend even if registration hasn’t occurred as this can be done at the session\nThe programs are open to Aboriginal people or Non Aboriginal people with Aboriginal or Torres\nStrait Islander children \n
URL:https://www.yorkeandmidnorth.com.au/event/aboriginal-family-support-services-program-healthy-homes-resilient-families-rules-routines/
CATEGORIES:Training
END:VEVENT
BEGIN:VEVENT
DTSTART;TZID=UTC+0:20180228T103000
DTEND;TZID=UTC+0:20180328T143000
DTSTAMP:20180227T021559
CREATED:20180222T030327Z
LAST-MODIFIED:20180222T030327Z
UID:1254-1519813800-1522247400@www.yorkeandmidnorth.com.au
SUMMARY:Aboriginal Family Support Services - Healthy Homes and Resilient Families - Rules and Routines
DESCRIPTION:For more details or registration please contact Dot Goldsmith 0467007492 or Tracy Miller 8254 1077\nPlease attend even if registration hasn’t occurred as this can be done at the session\nThe programs are open to Aboriginal people or Non Aboriginal people with Aboriginal or Torres\nStrait Islander children \n
URL:https://www.yorkeandmidnorth.com.au/event/aboriginal-family-support-services-healthy-homes-resilient-families-rules-routines/
CATEGORIES:Training
END:VEVENT
BEGIN:VEVENT
DTSTART;TZID=UTC+0:20180307T103000
DTEND;TZID=UTC+0:20180307T143000
DTSTAMP:20180227T021559
CREATED:20180222T024531Z
LAST-MODIFIED:20180222T030207Z
UID:1259-1520418600-1520433000@www.yorkeandmidnorth.com.au
SUMMARY:Aboriginal Family Support Services Program - Healthy Homes and Resilient Families - Rules and Routines
DESCRIPTION:For more details or registration please contact Dot Goldsmith 0467007492 or Tracy Miller 8254 1077\nPlease attend even if registration hasn’t occurred as this can be done at the session\nThe programs are open to Aboriginal people or Non Aboriginal people with Aboriginal or Torres\nStrait Islander children \n
URL:https://www.yorkeandmidnorth.com.au/event/aboriginal-family-support-services-program-healthy-homes-resilient-families-rules-routines-2/
CATEGORIES:Training
END:VEVENT
BEGIN:VEVENT
DTSTART;TZID=UTC+0:20180314T103000
DTEND;TZID=UTC+0:20180314T143000
DTSTAMP:20180227T021559
CREATED:20180222T025804Z
LAST-MODIFIED:20180222T030157Z
UID:1261-1521023400-1521037800@www.yorkeandmidnorth.com.au
SUMMARY:Aboriginal Family Support Services Program - Healthy Homes and Resilient Families - Rules and Routines
DESCRIPTION:For more details or registration please contact Dot Goldsmith 0467007492 or Tracy Miller 8254 1077\nPlease attend even if registration hasn’t occurred as this can be done at the session\nThe programs are open to Aboriginal people or Non Aboriginal people when Aboriginal or Torres\nStrait Islander children \n
URL:https://www.yorkeandmidnorth.com.au/event/aboriginal-family-support-services-program-healthy-homes-resilient-families-rules-routines-3/
CATEGORIES:Training
END:VEVENT
BEGIN:VEVENT
DTSTART;TZID=UTC+0:20180321T103000
DTEND;TZID=UTC+0:20180321T143000
DTSTAMP:20180227T021559
CREATED:20180222T025843Z
LAST-MODIFIED:20180222T030148Z
UID:1263-1521628200-1521642600@www.yorkeandmidnorth.com.au
SUMMARY:Aboriginal Family Support Services Program - Healthy Homes and Resilient Families - Rules and Routines
DESCRIPTION:For more details or registration please contact Dot Goldsmith 0467007492 or Tracy Miller 8254 1077\nPlease attend even if registration hasn’t occurred as this can be done at the session\nThe programs are open to Aboriginal people or Non Aboriginal people with Aboriginal or Torres\nStrait Islander children \n
URL:https://www.yorkeandmidnorth.com.au/event/aboriginal-family-support-services-program-healthy-homes-resilient-families-rules-routines-4/
CATEGORIES:Training
END:VEVENT
BEGIN:VEVENT
DTSTART;TZID=UTC+0:20180322T090000
DTEND;TZID=UTC+0:20180322T170000
DTSTAMP:20180227T021559
CREATED:20180118T041812Z
LAST-MODIFIED:20180118T041812Z
UID:1165-1521709200-1521738000@www.yorkeandmidnorth.com.au
SUMMARY:Yorke Emerging Leaders Program
DESCRIPTION:The Emerging Leaders Program has been designed to develop local people to become leaders of tomorrow. The program includes workshops\, networking events\, mentoring and community projects – and an opportunity to meet and build relationships with other current and emerging leaders across our\nregion. \nApplications are essential – due by 23 February 2018  – APPLY HERE \nBeing an Effective Leader – Training \n
URL:https://www.yorkeandmidnorth.com.au/event/yorke-emerging-leaders-program/
CATEGORIES:Training
ORGANIZER;CN="RDAYMN":MAILTO:info@yorkeandmidnorth.com.au
END:VEVENT
BEGIN:VEVENT
DTSTART;TZID=UTC+0:20180323T090000
DTEND;TZID=UTC+0:20180323T170000
DTSTAMP:20180227T021559
CREATED:20180118T042340Z
LAST-MODIFIED:20180118T042340Z
UID:1169-1521795600-1521824400@www.yorkeandmidnorth.com.au
SUMMARY:Yorke Emerging Leaders Program
DESCRIPTION:The Emerging Leaders Program has been designed to develop local people to become leaders of tomorrow. The program includes workshops\, networking events\, mentoring and community projects – and an opportunity to meet and build relationships with other current and emerging leaders across our\nregion. \nApplications are essential – due by 23 February 2018  – APPLY HERE \nEmpowering People – Training \n
URL:https://www.yorkeandmidnorth.com.au/event/yorke-emerging-leaders-program-2/
CATEGORIES:Training
ORGANIZER;CN="RDAYMN":MAILTO:info@yorkeandmidnorth.com.au
END:VEVENT
BEGIN:VEVENT
DTSTART;TZID=UTC+0:20180328T103000
DTEND;TZID=UTC+0:20180328T143000
DTSTAMP:20180227T021559
CREATED:20180222T030006Z
LAST-MODIFIED:20180222T030141Z
UID:1265-1522233000-1522247400@www.yorkeandmidnorth.com.au
SUMMARY:Aboriginal Family Support Services Program - Healthy Homes and Resilient Families - Rules and Routines
DESCRIPTION:For more details or registration please contact Dot Goldsmith 0467007492 or Tracy Miller 8254 1077\nPlease attend even if registration hasn’t occurred as this can be done at the session\nThe programs are open to Aboriginal people or Non Aboriginal people with Aboriginal or Torres\nStrait Islander children \n
URL:https://www.yorkeandmidnorth.com.au/event/aboriginal-family-support-services-program-healthy-homes-resilient-families-rules-routines-5/
CATEGORIES:Training
END:VEVENT
BEGIN:VEVENT
DTSTART;TZID=UTC+0:20180404T103000
DTEND;TZID=UTC+0:20180404T143000
DTSTAMP:20180227T021559
CREATED:20180222T030107Z
LAST-MODIFIED:20180222T030107Z
UID:1267-1522837800-1522852200@www.yorkeandmidnorth.com.au
SUMMARY:Aboriginal Family Support Services Program - Healthy Homes and Resilient Families - Rules and Routines
DESCRIPTION:For more details or registration please contact Dot Goldsmith 0467007492 or Tracy Miller 8254 1077\nPlease attend even if registration hasn’t occurred as this can be done at the session\nThe programs are open to Aboriginal people or Non Aboriginal people with Aboriginal or Torres\nStrait Islander children \n
URL:https://www.yorkeandmidnorth.com.au/event/aboriginal-family-support-services-program-healthy-homes-resilient-families-rules-routines-6/
CATEGORIES:Training
END:VEVENT
BEGIN:VEVENT
DTSTART;TZID=UTC+0:20180404T103000
DTEND;TZID=UTC+0:20180404T143000
DTSTAMP:20180227T021559
CREATED:20180222T030526Z
LAST-MODIFIED:20180222T030526Z
UID:1270-1522837800-1522852200@www.yorkeandmidnorth.com.au
SUMMARY:Aboriginal Family Support Services Program - Healthy Homes and Resilient Families - Rules and Routines
DESCRIPTION:For more details or registration please contact Dot Goldsmith 0467007492 or Tracy Miller 8254 1077\nPlease attend even if registration hasn’t occurred as this can be done at the session\nThe programs are open to Aboriginal people or Non Aboriginal people with Aboriginal or Torres\nStrait Islander children \n
URL:https://www.yorkeandmidnorth.com.au/event/aboriginal-family-support-services-program-healthy-homes-resilient-families-rules-routines-7/
LOCATION:13 Taylor Street\, Kadina\, SA\, 5554\, Australia
CATEGORIES:Training
END:VEVENT
BEGIN:VEVENT
DTSTART;TZID=UTC+0:20180411T103000
DTEND;TZID=UTC+0:20180411T143000
DTSTAMP:20180227T021559
CREATED:20180222T030817Z
LAST-MODIFIED:20180222T030817Z
UID:1273-1523442600-1523457000@www.yorkeandmidnorth.com.au
SUMMARY:Aboriginal Family Support Services Program - Healthy Homes and Resilient Families - Rules and Routines
DESCRIPTION:For more details or registration please contact Dot Goldsmith 0467007492 or Tracy Miller 8254 1077\nPlease attend even if registration hasn’t occurred as this can be done at the session\nThe programs are open to Aboriginal people or Non Aboriginal people with Aboriginal or Torres\nStrait Islander children \n
URL:https://www.yorkeandmidnorth.com.au/event/aboriginal-family-support-services-program-healthy-homes-resilient-families-rules-routines-8/
LOCATION:13 Taylor Street\, Kadina\, SA\, 5554\, Australia
CATEGORIES:Training
END:VEVENT
BEGIN:VEVENT
DTSTART;TZID=UTC+0:20180413T090000
DTEND;TZID=UTC+0:20180413T170000
DTSTAMP:20180227T021559
CREATED:20180124T230215Z
LAST-MODIFIED:20180124T230303Z
UID:1204-1523610000-1523638800@www.yorkeandmidnorth.com.au
SUMMARY:SOUTHERN FLINDERS – EMERGING LEADERS PROGRAM
DESCRIPTION:Workshop 2: Networking & Relationships \nThe Emerging Leaders Program has been designed to develop local people to become leaders of tomorrow. The program includes workshops\, networking events\, mentoring and community projects – and an opportunity to meet and build relationships with other current and emerging leaders across our\nregion. \nPhone 1300 742 414 for workshop enquiries \nBOOKED OUT \n
URL:https://www.yorkeandmidnorth.com.au/event/southern-flinders-emerging-leaders-program-2/
CATEGORIES:Workshop
END:VEVENT
BEGIN:VEVENT
DTSTART;TZID=UTC+0:20180415T090000
DTEND;TZID=UTC+0:20180419T170000
DTSTAMP:20180227T021559
CREATED:20171109T051324Z
LAST-MODIFIED:20171204T001057Z
UID:965-1523782800-1524157200@www.yorkeandmidnorth.com.au
SUMMARY:ATE - 2018
DESCRIPTION:\n\nThe Australian Tourism Exchange event brings together Australian tourism businesses and tourism wholesalers and retailers from around the world through a combination of scheduled business appointments and networking events. It also provides international travel buyers with the opportunity to experience Australia’s tourism offering first-hand through pre and post event familiarisations. \n\n\n\n\n\n  \nStart your Seller application now >  \n\n\n\n
URL:https://www.yorkeandmidnorth.com.au/event/ate-2018/
LOCATION:North Terrace\, Adelaide\, South Australia\, 5000\, Australia
CATEGORIES:Advance Notice
END:VEVENT
BEGIN:VEVENT
DTSTART;TZID=UTC+0:20180420T090000
DTEND;TZID=UTC+0:20180420T170000
DTSTAMP:20180227T021559
CREATED:20180118T042541Z
LAST-MODIFIED:20180118T043119Z
UID:1171-1524214800-1524243600@www.yorkeandmidnorth.com.au
SUMMARY:Yorke Emerging Leaders Program
DESCRIPTION:The Emerging Leaders Program has been designed to develop local people to become leaders of tomorrow. The program includes workshops\, networking events\, mentoring and community projects – and an opportunity to meet and build relationships with other current and emerging leaders across our\nregion. \nApplications are essential – due by 23 February 2018  – APPLY HERE \nBuilding Personal & Community Resilience – Training \n
URL:https://www.yorkeandmidnorth.com.au/event/yorke-emerging-leaders-program-3/
CATEGORIES:Training
ORGANIZER;CN="RDAYMN":MAILTO:info@yorkeandmidnorth.com.au
END:VEVENT
BEGIN:VEVENT
DTSTART;TZID=UTC+0:20180509T103000
DTEND;TZID=UTC+0:20180509T143000
DTSTAMP:20180227T021559
CREATED:20180222T031242Z
LAST-MODIFIED:20180222T031242Z
UID:1277-1525861800-1525876200@www.yorkeandmidnorth.com.au
SUMMARY:Aboriginal Family Support Services Program - Seasons for Healing - Grief and Loss
DESCRIPTION:For more details or registration please contact Dot Goldsmith 0467007492 or Tracy Miller 8254 1077\nPlease attend even if registration hasn’t occurred as this can be done at the session\nThe programs are open to Aboriginal people or Non Aboriginal people with Aboriginal or Torres\nStrait Islander children \n
URL:https://www.yorkeandmidnorth.com.au/event/aboriginal-family-support-services-program-seasons-healing-grief-loss-2/
LOCATION:13 Taylor Street\, Kadina\, SA\, 5554\, Australia
CATEGORIES:Training
END:VEVENT
BEGIN:VEVENT
DTSTART;TZID=UTC+0:20180511T090000
DTEND;TZID=UTC+0:20180511T170000
DTSTAMP:20180227T021559
CREATED:20180124T230700Z
LAST-MODIFIED:20180124T230700Z
UID:1209-1526029200-1526058000@www.yorkeandmidnorth.com.au
SUMMARY:SOUTHERN FLINDERS – EMERGING LEADERS PROGRAM
DESCRIPTION:Workshop 3: Project Management \nThe Emerging Leaders Program has been designed to develop local people to become leaders of tomorrow. The program includes workshops\, networking events\, mentoring and community projects – and an opportunity to meet and build relationships with other current and emerging leaders across our\nregion. \nPhone 1300 742 414 for workshop enquiries \nBOOKED OUT \n
URL:https://www.yorkeandmidnorth.com.au/event/southern-flinders-emerging-leaders-program-3/
CATEGORIES:Workshop
ORGANIZER;CN="RDAYMN":MAILTO:info@yorkeandmidnorth.com.au
END:VEVENT
BEGIN:VEVENT
DTSTART;TZID=UTC+0:20180516T103000
DTEND;TZID=UTC+0:20180516T143000
DTSTAMP:20180227T021559
CREATED:20180222T031334Z
LAST-MODIFIED:20180222T031334Z
UID:1279-1526466600-1526481000@www.yorkeandmidnorth.com.au
SUMMARY:Aboriginal Family Support Services Program - Seasons for Healing - Grief and Loss
DESCRIPTION:For more details or registration please contact Dot Goldsmith 0467007492 or Tracy Miller 8254 1077\nPlease attend even if registration hasn’t occurred as this can be done at the session\nThe programs are open to Aboriginal people or Non Aboriginal people with Aboriginal or Torres\nStrait Islander children \n
URL:https://www.yorkeandmidnorth.com.au/event/aboriginal-family-support-services-program-seasons-healing-grief-loss-3/
LOCATION:13 Taylor Street\, Kadina\, SA\, 5554\, Australia
CATEGORIES:Training
END:VEVENT
BEGIN:VEVENT
DTSTART;TZID=UTC+0:20180523T103000
DTEND;TZID=UTC+0:20180523T143000
DTSTAMP:20180227T021559
CREATED:20180222T031407Z
LAST-MODIFIED:20180222T031407Z
UID:1281-1527071400-1527085800@www.yorkeandmidnorth.com.au
SUMMARY:Aboriginal Family Support Services Program - Seasons for Healing - Grief and Loss
DESCRIPTION:For more details or registration please contact Dot Goldsmith 0467007492 or Tracy Miller 8254 1077\nPlease attend even if registration hasn’t occurred as this can be done at the session\nThe programs are open to Aboriginal people or Non Aboriginal people with Aboriginal or Torres\nStrait Islander children \n
URL:https://www.yorkeandmidnorth.com.au/event/aboriginal-family-support-services-program-seasons-healing-grief-loss-4/
LOCATION:13 Taylor Street\, Kadina\, SA\, 5554\, Australia
CATEGORIES:Training
END:VEVENT
BEGIN:VEVENT
DTSTART;TZID=UTC+0:20180529T080000
DTEND;TZID=UTC+0:20180530T170000
DTSTAMP:20180227T021559
CREATED:20180118T051625Z
LAST-MODIFIED:20180118T051625Z
UID:1187-1527580800-1527699600@www.yorkeandmidnorth.com.au
SUMMARY:2018 SATIC Tourism Conference
DESCRIPTION:Save the Date! \nFurther Details TBA \n
URL:https://www.yorkeandmidnorth.com.au/event/2018-satic-tourism-conference/
END:VEVENT
BEGIN:VEVENT
DTSTART;TZID=UTC+0:20180530T103000
DTEND;TZID=UTC+0:20180530T143000
DTSTAMP:20180227T021559
CREATED:20180222T031706Z
LAST-MODIFIED:20180222T031706Z
UID:1283-1527676200-1527690600@www.yorkeandmidnorth.com.au
SUMMARY:Aboriginal Family Support Services Program - Seasons for Healing - Grief and Loss
DESCRIPTION:For more details or registration please contact Dot Goldsmith 0467007492 or Tracy Miller 8254 1077\nPlease attend even if registration hasn’t occurred as this can be done at the session\nThe programs are open to Aboriginal people or Non Aboriginal people with Aboriginal or Torres\nStrait Islander children \n
URL:https://www.yorkeandmidnorth.com.au/event/aboriginal-family-support-services-program-seasons-healing-grief-loss-5/
LOCATION:13 Taylor Street\, Kadina\, SA\, 5554\, Australia
CATEGORIES:Training
END:VEVENT
BEGIN:VEVENT
DTSTART;TZID=UTC+0:20180606T103000
DTEND;TZID=UTC+0:20180606T143000
DTSTAMP:20180227T021559
CREATED:20180222T031743Z
LAST-MODIFIED:20180222T031743Z
UID:1285-1528281000-1528295400@www.yorkeandmidnorth.com.au
SUMMARY:Aboriginal Family Support Services Program - Seasons for Healing - Grief and Loss
DESCRIPTION:For more details or registration please contact Dot Goldsmith 0467007492 or Tracy Miller 8254 1077\nPlease attend even if registration hasn’t occurred as this can be done at the session\nThe programs are open to Aboriginal people or Non Aboriginal people with Aboriginal or Torres\nStrait Islander children \n
URL:https://www.yorkeandmidnorth.com.au/event/aboriginal-family-support-services-program-seasons-healing-grief-loss-6/
LOCATION:13 Taylor Street\, Kadina\, SA\, 5554\, Australia
CATEGORIES:Training
END:VEVENT
BEGIN:VEVENT
DTSTART;TZID=UTC+0:20180608T090000
DTEND;TZID=UTC+0:20180608T170000
DTSTAMP:20180227T021559
CREATED:20180118T042729Z
LAST-MODIFIED:20180118T043052Z
UID:1173-1528448400-1528477200@www.yorkeandmidnorth.com.au
SUMMARY:Yorke Emerging Leaders Program
DESCRIPTION:The Emerging Leaders Program has been designed to develop local people to become leaders of tomorrow. The program includes workshops\, networking events\, mentoring and community projects – and an opportunity to meet and build relationships with other current and emerging leaders across our\nregion. \nApplications are essential – due by 23 February 2018  – APPLY HERE \nProject Management – Training \n
URL:https://www.yorkeandmidnorth.com.au/event/yorke-emerging-leaders-program-4/
CATEGORIES:Training
ORGANIZER;CN="RDAYMN":MAILTO:info@yorkeandmidnorth.com.au
END:VEVENT
BEGIN:VEVENT
DTSTART;TZID=UTC+0:20180608T090000
DTEND;TZID=UTC+0:20180608T170000
DTSTAMP:20180227T021559
CREATED:20180124T230847Z
LAST-MODIFIED:20180124T230847Z
UID:1212-1528448400-1528477200@www.yorkeandmidnorth.com.au
SUMMARY:SOUTHERN FLINDERS – EMERGING LEADERS PROGRAM
DESCRIPTION:Workshop 4: Planning & Risk Management \nThe Emerging Leaders Program has been designed to develop local people to become leaders of tomorrow. The program includes workshops\, networking events\, mentoring and community projects – and an opportunity to meet and build relationships with other current and emerging leaders across our\nregion. \nPhone 1300 742 414 for workshop enquiries \nBOOKED OUT \n
URL:https://www.yorkeandmidnorth.com.au/event/southern-flinders-emerging-leaders-program-4/
CATEGORIES:Workshop
ORGANIZER;CN="RDAYMN":MAILTO:info@yorkeandmidnorth.com.au
END:VEVENT
BEGIN:VEVENT
DTSTART;TZID=UTC+0:20180613T103000
DTEND;TZID=UTC+0:20180613T143000
DTSTAMP:20180227T021559
CREATED:20180222T031949Z
LAST-MODIFIED:20180222T031949Z
UID:1287-1528885800-1528900200@www.yorkeandmidnorth.com.au
SUMMARY:Aboriginal Family Support Services Program - Seasons for Healing - Grief and Loss
DESCRIPTION:For more details or registration please contact Dot Goldsmith 0467007492 or Tracy Miller 8254 1077\nPlease attend even if registration hasn’t occurred as this can be done at the session\nThe programs are open to Aboriginal people or Non Aboriginal people with Aboriginal or Torres\nStrait Islander children \n
URL:https://www.yorkeandmidnorth.com.au/event/aboriginal-family-support-services-program-seasons-healing-grief-loss-7/
LOCATION:13 Taylor Street\, Kadina\, SA\, 5554\, Australia
CATEGORIES:Training
END:VEVENT
BEGIN:VEVENT
DTSTART;TZID=UTC+0:20180620T103000
DTEND;TZID=UTC+0:20180620T143000
DTSTAMP:20180227T021559
CREATED:20180222T032021Z
LAST-MODIFIED:20180222T032021Z
UID:1289-1529490600-1529505000@www.yorkeandmidnorth.com.au
SUMMARY:Aboriginal Family Support Services Program - Seasons for Healing - Grief and Loss
DESCRIPTION:For more details or registration please contact Dot Goldsmith 0467007492 or Tracy Miller 8254 1077\nPlease attend even if registration hasn’t occurred as this can be done at the session\nThe programs are open to Aboriginal people or Non Aboriginal people with Aboriginal or Torres\nStrait Islander children \n
URL:https://www.yorkeandmidnorth.com.au/event/aboriginal-family-support-services-program-seasons-healing-grief-loss-8/
LOCATION:13 Taylor Street\, Kadina\, SA\, 5554\, Australia
CATEGORIES:Training
END:VEVENT
BEGIN:VEVENT
DTSTART;TZID=UTC+0:20180627T103000
DTEND;TZID=UTC+0:20180627T143000
DTSTAMP:20180227T021559
CREATED:20180222T032101Z
LAST-MODIFIED:20180222T032101Z
UID:1291-1530095400-1530109800@www.yorkeandmidnorth.com.au
SUMMARY:Aboriginal Family Support Services Program - Seasons for Healing - Grief and Loss
DESCRIPTION:For more details or registration please contact Dot Goldsmith 0467007492 or Tracy Miller 8254 1077\nPlease attend even if registration hasn’t occurred as this can be done at the session\nThe programs are open to Aboriginal people or Non Aboriginal people with Aboriginal or Torres\nStrait Islander children \n
URL:https://www.yorkeandmidnorth.com.au/event/aboriginal-family-support-services-program-seasons-healing-grief-loss-9/
LOCATION:13 Taylor Street\, Kadina\, SA\, 5554\, Australia
CATEGORIES:Training
END:VEVENT
BEGIN:VEVENT
DTSTART;TZID=UTC+0:20180629T090000
DTEND;TZID=UTC+0:20180629T170000
DTSTAMP:20180227T021559
CREATED:20180118T042910Z
LAST-MODIFIED:20180118T043033Z
UID:1175-1530262800-1530291600@www.yorkeandmidnorth.com.au
SUMMARY:Yorke Emerging Leaders Program
DESCRIPTION:The Emerging Leaders Program has been designed to develop local people to become leaders of tomorrow. The program includes workshops\, networking events\, mentoring and community projects – and an opportunity to meet and build relationships with other current and emerging leaders across our\nregion. \nApplications are essential – due by 23 February 2018  – APPLY HERE \nInnovative Solutions – Training \n
URL:https://www.yorkeandmidnorth.com.au/event/yorke-emerging-leaders-program-5/
CATEGORIES:Training
ORGANIZER;CN="RDAYMN":MAILTO:info@yorkeandmidnorth.com.au
END:VEVENT
BEGIN:VEVENT
DTSTART;TZID=UTC+0:20180704T103000
DTEND;TZID=UTC+0:20180704T143000
DTSTAMP:20180227T021559
CREATED:20180222T032146Z
LAST-MODIFIED:20180222T032146Z
UID:1293-1530700200-1530714600@www.yorkeandmidnorth.com.au
SUMMARY:Aboriginal Family Support Services Program - Seasons for Healing - Grief and Loss
DESCRIPTION:For more details or registration please contact Dot Goldsmith 0467007492 or Tracy Miller 8254 1077\nPlease attend even if registration hasn’t occurred as this can be done at the session\nThe programs are open to Aboriginal people or Non Aboriginal people with Aboriginal or Torres\nStrait Islander children \n
URL:https://www.yorkeandmidnorth.com.au/event/aboriginal-family-support-services-program-seasons-healing-grief-loss-10/
CATEGORIES:Training
END:VEVENT
END:VCALENDAR